BEGIN:VCALENDAR
VERSION:2.0
PRODID:-//Avis Provinciale Oristano - ECPv6.15.20//NONSGML v1.0//EN
CALSCALE:GREGORIAN
METHOD:PUBLISH
X-WR-CALNAME:Avis Provinciale Oristano
X-ORIGINAL-URL:https://www.avisor.it
X-WR-CALDESC:Eventi per Avis Provinciale Oristano
REFRESH-INTERVAL;VALUE=DURATION:PT1H
X-Robots-Tag:noindex
X-PUBLISHED-TTL:PT1H
BEGIN:VTIMEZONE
TZID:UTC
BEGIN:STANDARD
TZOFFSETFROM:+0000
TZOFFSETTO:+0000
TZNAME:UTC
DTSTART:20240101T000000
END:STANDARD
END:VTIMEZONE
BEGIN:VEVENT
DTSTART;VALUE=DATE:20250601
DTEND;VALUE=DATE:20250602
DTSTAMP:20260421T143307
CREATED:20250530T135611Z
LAST-MODIFIED:20250530T135611Z
UID:22570-1748736000-1748822399@www.avisor.it
SUMMARY:Autoemoteca Uras
DESCRIPTION:
URL:https://www.avisor.it/evento/autoemoteca-uras-6/
LOCATION:Uras
END:VEVENT
END:VCALENDAR